BEGIN:VCALENDAR
PRODID:-//kirchenweb.ch gmbh//veranstaltungsausgabe v2.0//DE
VERSION:2.0
METHOD:PUBLISH
BEGIN:VEVENT
DTSTART:20231225T090000Z
DTEND:20231225T100000Z
LOCATION:Kirchgemeindehaus Kaiseraugst\, Mühlegasse 13\, 4303 Kaiseraugst
TRANSP:OPAQUE
SEQUENCE:0
UID:9320-veranstaltung@ref-rheinfelden.ch
DTSTAMP:20240111T104451Z
DESCRIPTION:Lange vor Lukas in der Weihnachtsgeschichte (Lk. 2\, 1-20)
  haben schon „die Alten gesungen“ von ihrer Sehnsucht nach Frieden.
  Unter ihnen der Prophet Jesaja. Die Worte des alten Weihnachtslieds „Es
  ist ein Ros entsprungen“ gehen auf seine Weissagung vom kommenden
  Friedensreich zurück (Jes 11\, 1-9: „Und es wird ein Reis hervorgehen
  aus dem Stamm Isais und ein Zweig aus seiner Wurzel Frucht bringen“).
  Mit dieser Weissagung befassen wir im Weihnachtsgottesdienst.\n
 \nMusikalisch gestaltet wird die Feier von unserer Pianistin Assel
  Abilseitova gemeinsam mit dem Klarinettisten Etele Dosa (stv.
  Solo-Klarinettist im Kammerorchester Basel!); die beiden werden vier
  Fantasiestücke des nordisch-romantischen Komponisten Niels Gade spielen.
 \n\nKontakt: Pfr. Andreas Fischer\n\nWeitere Infos:
  https://www.ref-rheinfelden.ch/veranstaltung/9320
SUMMARY:Weihnachts-Gottesdienst mit Abendmahl
PRIORITY:5
X-MICROSOFT-CDO-IMPORTANCE:1
CLASS:PUBLIC
END:VEVENT
END:VCALENDAR
