BEGIN:VCALENDAR
PRODID:-//kirchenweb.ch gmbh//veranstaltungsausgabe v2.0//DE
VERSION:2.0
METHOD:PUBLISH
BEGIN:VEVENT
DTSTART:20231224T161500Z
DTEND:20231224T171500Z
LOCATION:Kirchgemeindehaus Kaiseraugst\, Mühlegasse 13\, 4303 Kaiseraugst
TRANSP:OPAQUE
SEQUENCE:0
UID:9319-veranstaltung@ref-rheinfelden.ch
DTSTAMP:20251116T202529Z
DESCRIPTION:Unsere Kirchenpflegerin Gitte Niederberger – Buchhändlerin
  und begnadete Storytellerin – wird eine Geschichte erzählen. Auch die
  biblische Weihnachtsgeschichte wird\, selbstverständlich\, zu hören
  sein – erläutert mit ein paar wenigen Gedanken. Das Weihnachtslicht
  wird uns\, in alter Tradition\, von der katholischen Kirche gebracht. Zum
  Schluss singen wir „Stille Nacht\, heilige Nacht“.\n\nMöge es uns
  warm ums Herz werden – Herzenswärme ist es\, was wir brauchen in
  kalten\, dunklen Zeiten!\n\nKontakt: Pfr. Andreas Fischer\n\nWeitere
  Infos: https://www.ref-rheinfelden.ch/veranstaltung/9319
SUMMARY:Gottesdienst an Heiligabend
PRIORITY:5
X-MICROSOFT-CDO-IMPORTANCE:1
CLASS:PUBLIC
END:VEVENT
END:VCALENDAR
