BEGIN:VCALENDAR
PRODID:-//kirchenweb.ch gmbh//veranstaltungsausgabe v2.0//DE
VERSION:2.0
METHOD:PUBLISH
BEGIN:VEVENT
DTSTART:20171231T220000Z
DTEND:20171231T224000Z
LOCATION:Röm.-kath. Kirche\, Herrmann-Keller-Str.\, 4310 Rheinfelden
TRANSP:OPAQUE
SEQUENCE:0
UID:7590-veranstaltung@ref-rheinfelden.ch
DTSTAMP:20171215T151654Z
DESCRIPTION:Kontakt: Pfr. Andreas Fischer\, \nPfr. Leszek Ruszkowski\n
 \nWeitere Infos: https://www.ref-rheinfelden.ch/veranstaltung/7590
SUMMARY:Friedensgebet des Taizé-Treffens
PRIORITY:5
X-MICROSOFT-CDO-IMPORTANCE:1
CLASS:PUBLIC
END:VEVENT
END:VCALENDAR
