BEGIN:VCALENDAR
PRODID:-//kirchenweb.ch gmbh//veranstaltungsausgabe v2.0//DE
VERSION:2.0
METHOD:PUBLISH
BEGIN:VEVENT
DTSTART:20180117T131500Z
DTEND:20180117T160000Z
LOCATION:Kirchgemeindehaus Robersten\, Roberstenstrasse 22\, 4310
  Rheinfelden
TRANSP:OPAQUE
SEQUENCE:0
UID:7548-veranstaltung@ref-rheinfelden.ch
DTSTAMP:20171208T102643Z
DESCRIPTION:Kontakt: Iris Reif\n\nWeitere Infos:
  https://www.ref-rheinfelden.ch/veranstaltung/7548
SUMMARY:SeniorInnen-Nachmittag
PRIORITY:5
X-MICROSOFT-CDO-IMPORTANCE:1
CLASS:PUBLIC
END:VEVENT
END:VCALENDAR
