BEGIN:VCALENDAR
PRODID:-//kirchenweb.ch gmbh//veranstaltungsausgabe v2.0//DE
VERSION:2.0
METHOD:PUBLISH
BEGIN:VEVENT
DTSTART:20171213T130000Z
DTEND:20171213T140000Z
LOCATION:Kirchgemeindehaus Gässli\, Juchstrasse 27\, 4312 Magden
TRANSP:OPAQUE
SEQUENCE:0
UID:7453-veranstaltung@ref-rheinfelden.ch
DTSTAMP:20171010T132312Z
DESCRIPTION:Während dem Winterhalbjahr wird jeweils an einem
  Mittwochnachmittag im Monat ein Film gezeigt für Kinder der 1.-5.
  Primarklasse. Die Vorführung findet im Gottesdienstraum des Gässli
  statt. \nEs handelt sich um Filme\, in denen meistens Kinder die
  Hauptrolle spielen und die einen pädagogischen Wert haben. Der Eintritt
  ist an und für sich kostenlos\, es wird eine kleine Gebühr für ein
  Zvieri erhoben. Zur Zeit werden Fr 2.- beim Eingang verlangt.\nDer Anlass
  steht allen Kindern offen\, Konfession und Religion spielen keine Rolle.
 \n\n\n\nKontakt: Pfr. Peter Senn\n\nWeitere Infos:
  https://www.ref-rheinfelden.ch/veranstaltung/7453
SUMMARY:Kleines Kino
PRIORITY:5
X-MICROSOFT-CDO-IMPORTANCE:1
CLASS:PUBLIC
END:VEVENT
END:VCALENDAR
