BEGIN:VCALENDAR
PRODID:-//kirchenweb.ch gmbh//veranstaltungsausgabe v2.0//DE
VERSION:2.0
METHOD:PUBLISH
BEGIN:VEVENT
DTSTART:20171115T113800Z
DTEND:20171115T160000Z
LOCATION:Bahnhof Rhf\, \,  Stein
TRANSP:OPAQUE
SEQUENCE:0
UID:7438-veranstaltung@ref-rheinfelden.ch
DTSTAMP:20170925T090416Z
DESCRIPTION:Besuch in der MBF Stein\n\nKontakt: Pfr. Leszek Ruszkowski\n
 \nWeitere Infos: https://www.ref-rheinfelden.ch/veranstaltung/7438
SUMMARY:Konf-Ausflug mit Pfr. LRu
PRIORITY:5
X-MICROSOFT-CDO-IMPORTANCE:1
CLASS:PUBLIC
END:VEVENT
END:VCALENDAR
