BEGIN:VCALENDAR
PRODID:-//kirchenweb.ch gmbh//veranstaltungsausgabe v2.0//DE
VERSION:2.0
METHOD:PUBLISH
BEGIN:VEVENT
DTSTART:20180117T173000Z
DTEND:20180117T190000Z
LOCATION:Reha Rheinfelden\, \,
TRANSP:OPAQUE
SEQUENCE:0
UID:7059-veranstaltung@ref-rheinfelden.ch
DTSTAMP:20180117T145318Z
DESCRIPTION:Kontakt: Pfrn. Christine Ruszkowski\n\nWeitere Infos:
  https://www.ref-rheinfelden.ch/veranstaltung/7059
SUMMARY:Tagesausklang Reha Rheinfelden
PRIORITY:5
X-MICROSOFT-CDO-IMPORTANCE:1
CLASS:PUBLIC
END:VEVENT
END:VCALENDAR
