BEGIN:VCALENDAR
PRODID:-//kirchenweb.ch gmbh//veranstaltungsausgabe v2.0//DE
VERSION:2.0
METHOD:PUBLISH
BEGIN:VEVENT
DTSTART:20180114T090000Z
DTEND:20180114T100000Z
LOCATION:Evang.-Ref. Kirche Rheinfelden\, Zürcherstrasse 1\, 4310
  Rheinfelden
TRANSP:OPAQUE
SEQUENCE:0
UID:6962-veranstaltung@ref-rheinfelden.ch
DTSTAMP:20180102T122442Z
DESCRIPTION:Kontakt: Pfrn. Christine Ruszkowski (061 831 20 78)\n\nWeitere
  Infos: https://www.ref-rheinfelden.ch/veranstaltung/6962
SUMMARY:Gottesdienst
PRIORITY:5
X-MICROSOFT-CDO-IMPORTANCE:1
CLASS:PUBLIC
END:VEVENT
END:VCALENDAR
