BEGIN:VCALENDAR
PRODID:-//kirchenweb.ch gmbh//veranstaltungsausgabe v2.0//DE
VERSION:2.0
METHOD:PUBLISH
BEGIN:VEVENT
DTSTART:20180114T090000Z
DTEND:20180114T100000Z
LOCATION:Ökumenische Kirche Liebrüti\, Im Zentrum\, 4303 Kaiseraugst
TRANSP:OPAQUE
SEQUENCE:0
UID:6960-veranstaltung@ref-rheinfelden.ch
DTSTAMP:20171121T115014Z
DESCRIPTION:Kontakt: Pfr. Peter Grüter\, Diakon Stephan Kochinky\, Pfr.
  Leszek Ruszkowski\n\nWeitere Infos:
  https://www.ref-rheinfelden.ch/veranstaltung/6960
SUMMARY:Ökumenischer Gottesdienst
PRIORITY:5
X-MICROSOFT-CDO-IMPORTANCE:1
CLASS:PUBLIC
END:VEVENT
END:VCALENDAR
