BEGIN:VCALENDAR
PRODID:-//kirchenweb.ch gmbh//veranstaltungsausgabe v2.0//DE
VERSION:2.0
METHOD:PUBLISH
BEGIN:VEVENT
DTSTART:20180101T100000Z
DTEND:20180101T110000Z
LOCATION:Evang.-Ref. Kirche Rheinfelden\, Zürcherstrasse 1\, 4310
  Rheinfelden
TRANSP:OPAQUE
SEQUENCE:0
UID:6958-veranstaltung@ref-rheinfelden.ch
DTSTAMP:20171213T124433Z
DESCRIPTION:mit den Gästen des europäischen Taizé-Jugendtreffens\,
  Frank Amrein\, Trompete\, Nina Haugen\, Orgel; Taizé-Gesänge mit Jutta
  Wurm und Ensemble\n\nKontakt: Pfr. Leszek Ruszkowski\n\nWeitere Infos:
  https://www.ref-rheinfelden.ch/veranstaltung/6958
SUMMARY:Neujahrsgottesdienst
PRIORITY:5
X-MICROSOFT-CDO-IMPORTANCE:1
CLASS:PUBLIC
END:VEVENT
END:VCALENDAR
