BEGIN:VCALENDAR
PRODID:-//kirchenweb.ch gmbh//veranstaltungsausgabe v2.0//DE
VERSION:2.0
METHOD:PUBLISH
BEGIN:VEVENT
DTSTART:20180124T090000Z
DTEND:20180124T100000Z
LOCATION:WPZ Salmenpark\, Basler Strasse 2\, 4310 Rheinfelden
TRANSP:OPAQUE
SEQUENCE:0
UID:6864-veranstaltung@ref-rheinfelden.ch
DTSTAMP:20181112T211226Z
DESCRIPTION:Kontakt: Pfr. Klaus-Christian Hirte\n\nWeitere Infos:
  https://www.ref-rheinfelden.ch/veranstaltung/6864
SUMMARY:Altersheim-Gottesdienst
PRIORITY:5
X-MICROSOFT-CDO-IMPORTANCE:1
CLASS:PUBLIC
END:VEVENT
END:VCALENDAR
