BEGIN:VCALENDAR
PRODID:-//kirchenweb.ch gmbh//veranstaltungsausgabe v2.0//DE
VERSION:2.0
METHOD:PUBLISH
BEGIN:VEVENT
DTSTART:20171124T171500Z
DTEND:20171124T220000Z
LOCATION:Kirchgemeindehaus Robersten\, Roberstenstrasse 22\, 4310
  Rheinfelden
TRANSP:OPAQUE
SEQUENCE:0
UID:6647-veranstaltung@ref-rheinfelden.ch
DTSTAMP:20170802T081435Z
DESCRIPTION:Kontakt: Ursula Kohler\n\nWeitere Infos:
  https://www.ref-rheinfelden.ch/veranstaltung/6647
SUMMARY:Soirée
PRIORITY:5
X-MICROSOFT-CDO-IMPORTANCE:1
CLASS:PUBLIC
END:VEVENT
END:VCALENDAR
