BEGIN:VCALENDAR
PRODID:-//kirchenweb.ch gmbh//veranstaltungsausgabe v2.0//DE
VERSION:2.0
METHOD:PUBLISH
BEGIN:VEVENT
DTSTART:20170423T080000Z
DTEND:20170423T090000Z
LOCATION:Gemeindesaal Magden\, \,
TRANSP:OPAQUE
SEQUENCE:0
UID:6626-veranstaltung@ref-rheinfelden.ch
DTSTAMP:20170323T170111Z
DESCRIPTION:Oekumenischer Gottesdienst anlässlich der Expo17\nMitwirkung
  der Circle Singers\nPfr. Peter Feenstra\, Pfr. Florian Piller\, Pfrn.
  Beatrice Gyssler\n\nKontakt: Pfrn. Beatrice Gyssler\n\n\nWeitere Infos:
  https://www.ref-rheinfelden.ch/veranstaltung/6626
SUMMARY:Ökumenischer Gottesdienst
PRIORITY:5
X-MICROSOFT-CDO-IMPORTANCE:1
CLASS:PUBLIC
END:VEVENT
END:VCALENDAR
