BEGIN:VCALENDAR
PRODID:-//kirchenweb.ch gmbh//veranstaltungsausgabe v2.0//DE
VERSION:2.0
METHOD:PUBLISH
BEGIN:VEVENT
DTSTART:20170322T190000Z
DTEND:20170322T203000Z
LOCATION:Kirchgemeindehaus Robersten\, Roberstenstrasse 22\, 4310
  Rheinfelden
TRANSP:OPAQUE
SEQUENCE:0
UID:6600-veranstaltung@ref-rheinfelden.ch
DTSTAMP:20170221T105943Z
DESCRIPTION:Vorbereitung einer Szene für den nächsten Gottesdienstes
  Plus\, Improvisationsübungen und ein wenig Schauspieltraining. Das alles
  hat Platz in diesen Proben. Schnuppern jederzeit möglich. Herzliche
  Einladung!\n\nKontakt: Pfr. Leszek Ruszkowski\n\nWeitere Infos:
  https://www.ref-rheinfelden.ch/veranstaltung/6600
SUMMARY:ChileTheater-Probe
PRIORITY:5
X-MICROSOFT-CDO-IMPORTANCE:1
CLASS:PUBLIC
END:VEVENT
END:VCALENDAR
