BEGIN:VCALENDAR
PRODID:-//kirchenweb.ch gmbh//veranstaltungsausgabe v2.0//DE
VERSION:2.0
METHOD:PUBLISH
BEGIN:VEVENT
DTSTART:20170425T130000Z
DTEND:20170425T150000Z
LOCATION:Altersheim Rinau\, Buchenweg 2\, 4303 Kaiseraugst
TRANSP:OPAQUE
SEQUENCE:0
UID:6575-veranstaltung@ref-rheinfelden.ch
DTSTAMP:20170208T154427Z
DESCRIPTION:Andacht mit Gedanken zu einem biblischen Text\, Gebet und
  Liedern\, von Jutta Wurm auf der Gitarre begleitet; anschliessend offenes
  Singen\n\nKontakt: Pfr. Andreas Fischer\n\nWeitere Infos:
  https://www.ref-rheinfelden.ch/veranstaltung/6575
SUMMARY:Andacht und offenes Singen in der Rinau
PRIORITY:5
X-MICROSOFT-CDO-IMPORTANCE:1
CLASS:PUBLIC
END:VEVENT
END:VCALENDAR
