BEGIN:VCALENDAR
PRODID:-//kirchenweb.ch gmbh//veranstaltungsausgabe v2.0//DE
VERSION:2.0
METHOD:PUBLISH
BEGIN:VEVENT
DTSTART:20171213T050000Z
DTEND:20171213T060000Z
LOCATION:Röm.-katholische Kirche St. Gallus und Othmar\, Heidemurweg 30\,
  4303 Kaiseraugst
TRANSP:OPAQUE
SEQUENCE:0
UID:6571-veranstaltung@ref-rheinfelden.ch
DTSTAMP:20171207T220558Z
DESCRIPTION:"VERHEISSUNG UND HOFFNUNG" lautet das Thema der diesjährigen
  Roratefeiern. Es nimmt Bezug auf Johannes den Täufer\, dessen Geschichte
  von Geburt an\, nein\, schon vorgeburtlich tief mit jener Jesu Christi
  verbunden ist. Die Geburtsgeschichten von Johannes und von Jesus werden
  in der Bibel parallel zueinander erzählt.\n\nMit der Geburt Jesu werden
  wir uns an Weihnachten befassen. In den beiden Roratefeiern wenden wir
  uns Johannes dem Täufer zu.\n\nIn der zweiten Roratefeier liegt der
  Schwerpunkt auf dem Thema HOFFNUNG. Es geht um die Geburt von Johannes\,
  wie sie im 1. Kapitel des Lukasevangeliums erzählt wird (V. 57-66)\, und
  die bange Frage seiner Mutter Elisabeth: "Was wird wohl aus diesem Kind
  werden?"\n\nMusikalisch gestaltet wird die Roratefeier von der Organistin
  und Kirchenmusikerin Angelika Hirsch und ihrem Chor "Vox Raurica".\n
 \nAnschliessend Zmorge.\n\nZur Roratefeier lädt\, auch im Namen von
  Diakon Stephan Kochinky\, herzlich ein:\n\nPfarrer Andreas Fischer\n\n
 \nKontakt: Pfr. Andreas Fischer\n\nWeitere Infos:
  https://www.ref-rheinfelden.ch/veranstaltung/6571
SUMMARY:Rorate - ökumenischer Frühgottesdienst
PRIORITY:5
X-MICROSOFT-CDO-IMPORTANCE:1
CLASS:PUBLIC
END:VEVENT
END:VCALENDAR
