BEGIN:VCALENDAR
PRODID:-//kirchenweb.ch gmbh//veranstaltungsausgabe v2.0//DE
VERSION:2.0
METHOD:PUBLISH
BEGIN:VEVENT
DTSTART:20170427T173000Z
DTEND:20170427T183000Z
LOCATION:Kirchgemeindehaus Robersten\, Roberstenstrasse 22\, 4310
  Rheinfelden
TRANSP:OPAQUE
SEQUENCE:0
UID:6553-veranstaltung@ref-rheinfelden.ch
DTSTAMP:20170404T065453Z
DESCRIPTION:"Hier stehe ich\, ich kann auch anders" - Vortrag zum Leben
  von Martin Luther. Wer war dieser Mensch hinter all dem Kult um ihn
  wirklich? Was hat ihn angetrieben und geprägt? Wo ist er Kind seiner
  Zeit geblieben? Und was war wirklich visionär?\n\n27. April: Luthers
  Werdegang\n\n4. Mai (in Kaiseraugst spricht Pfr. Andreas Fischer über
  Luthers Werk.\n\nKontakt: Pfr. Klaus-Christian Hirte\n\nWeitere Infos:
  https://www.ref-rheinfelden.ch/veranstaltung/6553
SUMMARY:"Hier stehe ich\, ich kann auch anders" -Luthervortrag
PRIORITY:5
X-MICROSOFT-CDO-IMPORTANCE:1
CLASS:PUBLIC
END:VEVENT
END:VCALENDAR
