BEGIN:VCALENDAR
PRODID:-//kirchenweb.ch gmbh//veranstaltungsausgabe v2.0//DE
VERSION:2.0
METHOD:PUBLISH
BEGIN:VEVENT
DTSTART:20170415T064500Z
DTEND:20170415T074500Z
LOCATION:Reformierte Kirche Rheinfelden\, Chorraum\, \,
TRANSP:OPAQUE
SEQUENCE:0
UID:6482-veranstaltung@ref-rheinfelden.ch
DTSTAMP:20161215T093110Z
DESCRIPTION:Kontakt: Pfr. Klaus-Christian Hirte\n\nWeitere Infos:
  https://www.ref-rheinfelden.ch/veranstaltung/6482
SUMMARY:Morgengebet
PRIORITY:5
X-MICROSOFT-CDO-IMPORTANCE:1
CLASS:PUBLIC
END:VEVENT
END:VCALENDAR
