BEGIN:VCALENDAR
PRODID:-//kirchenweb.ch gmbh//veranstaltungsausgabe v2.0//DE
VERSION:2.0
METHOD:PUBLISH
BEGIN:VEVENT
DTSTART:20170315T131500Z
DTEND:20170315T160000Z
LOCATION:Kirchgemeindehaus Robersten\, Roberstenstrasse 22\, 4310
  Rheinfelden
TRANSP:OPAQUE
SEQUENCE:0
UID:6221-veranstaltung@ref-rheinfelden.ch
DTSTAMP:20170116T142708Z
DESCRIPTION:Die Frauen der Reformation\nPfr. Klaus-Christian Hirte\nWäre
  der Abendmahlsstreit zwischen Luther und Zwingli anders ausgegangen\,
  wenn Katharina von Bora gekocht hätte? Wie war es möglich\, in
  Strassburg 2500 Flüchtlinge aus dem Bauernkrieg unterzubringen? Auch die
  Frauen haben in der Reformation wichtige reformatorische Impulse gesetzt.
  Nicht nur als Ehefrauen der Reformatoren\, sondern auch ganz
  eigenständig. Wir werden einige kennen lernen und uns über die Rolle
  der Frau damals und heute unterhalten.\n\n\nKontakt: Erika Gersbach\n
 \nWeitere Infos: https://www.ref-rheinfelden.ch/veranstaltung/6221
SUMMARY:Seniorennachmittag
PRIORITY:5
X-MICROSOFT-CDO-IMPORTANCE:1
CLASS:PUBLIC
END:VEVENT
END:VCALENDAR
