BEGIN:VCALENDAR
PRODID:-//kirchenweb.ch gmbh//veranstaltungsausgabe v2.0//DE
VERSION:2.0
METHOD:PUBLISH
BEGIN:VEVENT
DTSTART:20170222T131500Z
DTEND:20170222T160000Z
LOCATION:Kirchgemeindehaus Robersten\, Roberstenstrasse 22\, 4310
  Rheinfelden
TRANSP:OPAQUE
SEQUENCE:0
UID:6220-veranstaltung@ref-rheinfelden.ch
DTSTAMP:20170116T142551Z
DESCRIPTION:Ophelias Schattentheater\nFigurentheater mit Susanne Rapp und
  Gabi Kehl. „Weil das Theater geschlossen wurde\, wird Ophelia\, eine
  alte Soufleuse\, arbeitslos. Im Theater und in einer Kirche begegnen ihr
  herrenlose Schatten. Ophelia nimmt sie zu sich. Es kommen immer mehr
  Schatten zu ihr und mit diesen führt sie Schattentheater auf. Sie hat
  Erfolg und fährt mit ihrem Theater in der ganzen Welt herum …“\n\n
 \nKontakt: Erika Gersbach\n\nWeitere Infos:
  https://www.ref-rheinfelden.ch/veranstaltung/6220
SUMMARY:Seniorennachmittag
PRIORITY:5
X-MICROSOFT-CDO-IMPORTANCE:1
CLASS:PUBLIC
END:VEVENT
END:VCALENDAR
