BEGIN:VCALENDAR
PRODID:-//kirchenweb.ch gmbh//veranstaltungsausgabe v2.0//DE
VERSION:2.0
METHOD:PUBLISH
BEGIN:VEVENT
DTSTART:20170315T183000Z
DTEND:20170315T200000Z
LOCATION:Kirchgemeindehaus Gässli\, Juchstrasse 27\, 4312 Magden
TRANSP:OPAQUE
SEQUENCE:0
UID:6003-veranstaltung@ref-rheinfelden.ch
DTSTAMP:20160824T094832Z
DESCRIPTION:Während des Winterhalbjahrs treffen wir uns an einem Abend im
  Monat zu einer gemütlichen Gesprächsrunde.\nIm Mittelpunkt steht
  jeweils ein Buch\, das wir zusammen lesen und besprechen. In der Regel
  wird ein Buch aufgenommen\, das eine aktuelle Problematik aufnimmt und
  einen religiösen Zusammenhang hat.\nDie Gespräche beginnen jeweils um
  19.30 Uhr und enden um 21.00 Uhr.\nSie finden im Chemineeraum des Gässli
  in Magden statt.\nBuchtitel und Fortlauf der Lesung können Sie aus der
  Kirchenzeitung "Güggel" entnehmen oder auf der Webseite unter
  Veranstaltungen einsehen.\nVerantwortlich: Peter Senn\, Pfarrer \n
 \nKontakt: Pfr. Peter Senn\n\nWeitere Infos:
  https://www.ref-rheinfelden.ch/veranstaltung/6003
SUMMARY:Gespräche im Gässli
PRIORITY:5
X-MICROSOFT-CDO-IMPORTANCE:1
CLASS:PUBLIC
END:VEVENT
END:VCALENDAR
