BEGIN:VCALENDAR
PRODID:-//kirchenweb.ch gmbh//veranstaltungsausgabe v2.0//DE
VERSION:2.0
METHOD:PUBLISH
BEGIN:VEVENT
DTSTART:20170510T180000Z
DTEND:20170510T193000Z
LOCATION:Kirchgemeindehaus Gässli\, Juchstrasse 27\, 4312 Magden
TRANSP:OPAQUE
SEQUENCE:0
UID:5939-veranstaltung@ref-rheinfelden.ch
DTSTAMP:20170322T105314Z
DESCRIPTION:Der Spielfilm erzählt die Lebensgeschichte des
  Kirchenreformators Martin Luther. Vor dem Film eine kurze Einführung.
  Nach dem Film kleiner Apéro.\n\nKontakt: Pfr. Leszek Ruszkowski\n
 \nWeitere Infos: https://www.ref-rheinfelden.ch/veranstaltung/5939
SUMMARY:Kino im Gässli: Luthers Leben verfilmt (Jubiläumsveranstaltung)
PRIORITY:5
X-MICROSOFT-CDO-IMPORTANCE:1
CLASS:PUBLIC
END:VEVENT
END:VCALENDAR
