BEGIN:VCALENDAR
PRODID:-//kirchenweb.ch gmbh//veranstaltungsausgabe v2.0//DE
VERSION:2.0
METHOD:PUBLISH
BEGIN:VEVENT
DTSTART:20171119T180000Z
DTEND:20171119T190000Z
LOCATION:Kirchgemeindehaus Kaiseraugst\, Mühlegasse 13\, 4303 Kaiseraugst
TRANSP:OPAQUE
SEQUENCE:0
UID:5879-veranstaltung@ref-rheinfelden.ch
DTSTAMP:20171114T014010Z
DESCRIPTION:In einem Interview im Magazin (17.08.2016) sagt die
  Harfenistin\, Organistin und Chorleiterin Jasmine Vollmer:\n\nMusik hat\,
  „wie der Glaube\, eine höhere Dimension. Ganz in der Gegenwart
  aufzugehen\, im Strom des Lebens\, das lehrt uns die Musik... Ein
  wesentlicher Teil beim Singen wie beim Spielen besteht darin\, in einen
  Ich-losen Zustand zu geraten. Nicht sofort\, das braucht ein paar
  Minuten\, aber dann ist man nicht mehr man selbst\, sondern geht in etwas
  Grösserem auf.“\n\nJasmine Vollmer ist Kirchenmusikerin in
  Zürich-Schwamendingen. Wir arbeiteten dort mehrere Jahre zusammen. Nun
  war vorgesehen\, dass sie – mit ihrer Harfe und im Gespräch mit mir
  – den Abendgottesdienst gestaltet.\n\nDas Thema\, von jenem Interview
  beeinflusst\, lautet: „Heilende Kraft der Musik“. In einer dazu
  passenden biblischen Passage spielt der Hirtenbub David dem König Saul
  auf der Harfe vor:\n\n„Wenn nun der böse Geist über Saul kam\, nahm
  David die Harfe und spielte; dann wurde es Saul leichter und besser\, und
  der böse Geist wich von ihm.“ (1. Sam. 16\, 23)\n\nMusik legt sich\,
  scheint es\, schützend\, heilend über unsere Seelen\, gleichsam wie ein
  Mantel. Dazu ein paar Assoziationen:\n\n•	Das lateinische Wort für
  „Mantel“ lautet „Pallium“. Davon leitet sich „Palliative
  Care“ ab. „Care“ bedeutet nicht nur „Pflege“. „I care for
  you“ bedeutet im umfassenden Sinn: „Ich sorge für dich\, sorge mich
  um dich. Du bist mir wichtig.“\n•	Martin von Tours\, dessen Gedenktag
  wir kürzlich (am 11. November) feierten\, teilte seinen Mantel. Er weist
  mit dieser Geste auf die soziale\, aktive\, praktische Dimension des
  Themas hin\, gemäss den Worten Jesu: „Was ihr einem meiner Geringsten
  getan habt\, das habt ihr mir getan.“ (Mt. 25\, 40)\n•	Der Mantel
  symbolisiert „energetischen Schutz“\, wie er in vielen Kulturen
  bekannt ist. In der christlich-katholischen Tradition wird ein
  entsprechender Schutz dem blauen Mantel Marias zugesprochen\, vgl. das
  Lied „Maria\, breit den Mantel aus“.\n\nIn diesem Assoziationsfeld
  findet der DAG statt. Leider ohne Jasmine Vollmer\, die ihr Mitwirken aus
  gravierenden gesundheitlichen Gründen kurzfristig absagen muss. Dafür
  wird\, schon fast zum letzten Mal\, der grossartige jüdische Pianist
  Rani Orenstein zu hören sein.\n\nZum DAG - DER ANDERE GOTTESDIENST lädt
  im Namen des Vorbereitungsteams herzlich ein:\n\nAndreas Fischer\n\nWer
  die DAG-Lieder im Vorfeld einüben mag\, sei hingewiesen auf\n-	Mantren\,
  Chants\, Kanons am Freitag\, 17. November 2017\, same time\, same place:
 \nhttps://www.ref-rheinfelden.ch/veranstaltung/5712\n-	Einsingen ab 18.15
  Uhr im Pfarrhaus (Kraftwerkstrasse 10)\n\n\nKontakt: Pfr. Andreas Fischer
 \n\nWeitere Infos: https://www.ref-rheinfelden.ch/veranstaltung/5879
SUMMARY:Heilende Kraft der Musik: DAG - DER ANDERE GOTTESDIENST
PRIORITY:5
X-MICROSOFT-CDO-IMPORTANCE:1
CLASS:PUBLIC
END:VEVENT
END:VCALENDAR
