BEGIN:VCALENDAR
PRODID:-//kirchenweb.ch gmbh//veranstaltungsausgabe v2.0//DE
VERSION:2.0
METHOD:PUBLISH
BEGIN:VEVENT
DTSTART:20170312T090000Z
DTEND:20170312T100000Z
LOCATION:Rehaklinik Rheinfelden\, \,
TRANSP:OPAQUE
SEQUENCE:0
UID:5868-veranstaltung@ref-rheinfelden.ch
DTSTAMP:20160920T081448Z
DESCRIPTION:Reformierter Gottesdienst in der Rehaklinik\, im Vortragssaal
  hinter der Cafeteria\n\nKontakt: Pfr. Klaus-Christian Hirte\n\nWeitere
  Infos: https://www.ref-rheinfelden.ch/veranstaltung/5868
SUMMARY:Gottesdienst in der Rehaklinik
PRIORITY:5
X-MICROSOFT-CDO-IMPORTANCE:1
CLASS:PUBLIC
END:VEVENT
END:VCALENDAR
