BEGIN:VCALENDAR
PRODID:-//kirchenweb.ch gmbh//veranstaltungsausgabe v2.0//DE
VERSION:2.0
METHOD:PUBLISH
BEGIN:VEVENT
DTSTART:20171231T090000Z
DTEND:20171231T100000Z
LOCATION:Rehaklinik Rheinfelden\, \,
TRANSP:OPAQUE
SEQUENCE:0
UID:5865-veranstaltung@ref-rheinfelden.ch
DTSTAMP:20171227T100915Z
DESCRIPTION:"Meine Zeit Herr steht in deinen Händen"\, Reformierter
  Gottesdienst zum Jahreswechsel in der Rehaklinik\, mit einem Projektchor
  unter Leitung von Nina Haugen\, in der Blauen Halle\n\nKontakt: Pfr.
  Klaus-Christian Hirte\n\nWeitere Infos:
  https://www.ref-rheinfelden.ch/veranstaltung/5865
SUMMARY:Gottesdienst in der Rehaklinik
PRIORITY:5
X-MICROSOFT-CDO-IMPORTANCE:1
CLASS:PUBLIC
END:VEVENT
END:VCALENDAR
