BEGIN:VCALENDAR
PRODID:-//kirchenweb.ch gmbh//veranstaltungsausgabe v2.0//DE
VERSION:2.0
METHOD:PUBLISH
BEGIN:VEVENT
DTSTART:20171225T090000Z
DTEND:20171225T100000Z
LOCATION:Evang.-Ref. Kirche Rheinfelden\, Zürcherstrasse 1\, 4310
  Rheinfelden
TRANSP:OPAQUE
SEQUENCE:0
UID:5864-veranstaltung@ref-rheinfelden.ch
DTSTAMP:20171218T090656Z
DESCRIPTION:"Euch ist heute der Heiland geboren"\, Herzliche Einladung zum
   Weihnachtsgottesdienst mit Abendmahl\, Musik: Gospelchor unter Leitung
  von Christoph Herrmann\n\nKontakt: Pfr. Klaus-Christian Hirte\n\nWeitere
  Infos: https://www.ref-rheinfelden.ch/veranstaltung/5864
SUMMARY:Weihnachtsgottesdienst  mit Abendmahl
PRIORITY:5
X-MICROSOFT-CDO-IMPORTANCE:1
CLASS:PUBLIC
END:VEVENT
END:VCALENDAR
