BEGIN:VCALENDAR
PRODID:-//kirchenweb.ch gmbh//veranstaltungsausgabe v2.0//DE
VERSION:2.0
METHOD:PUBLISH
BEGIN:VEVENT
DTSTART:20170423T080000Z
DTEND:20170423T090000Z
LOCATION:Evang.-Ref. Kirche Rheinfelden\, Zürcherstrasse 1\, 4310
  Rheinfelden
TRANSP:OPAQUE
SEQUENCE:0
UID:5850-veranstaltung@ref-rheinfelden.ch
DTSTAMP:20160920T084807Z
DESCRIPTION:Gesamtgemeindegottesdienst\n\nKontakt: Pfr. Klaus-Christian
  Hirte\n\nWeitere Infos: https://www.ref-rheinfelden.ch/veranstaltung/5850
SUMMARY:Gottesdienst mit Taufe
PRIORITY:5
X-MICROSOFT-CDO-IMPORTANCE:1
CLASS:PUBLIC
END:VEVENT
END:VCALENDAR
