BEGIN:VCALENDAR
PRODID:-//kirchenweb.ch gmbh//veranstaltungsausgabe v2.0//DE
VERSION:2.0
METHOD:PUBLISH
BEGIN:VEVENT
DTSTART:20171220T160000Z
DTEND:20171220T170000Z
LOCATION:Kapelle im Gesundheitszentrum Fricktal \, Riburger Strasse\, 4310
  Rheinfelden
TRANSP:OPAQUE
SEQUENCE:0
UID:5845-veranstaltung@ref-rheinfelden.ch
DTSTAMP:20171217T173220Z
DESCRIPTION:Kontakt: Pfr. Klaus-Christian Hirte\n\nWeitere Infos:
  https://www.ref-rheinfelden.ch/veranstaltung/5845
SUMMARY:Weihnachtsfeier im Spital
PRIORITY:5
X-MICROSOFT-CDO-IMPORTANCE:1
CLASS:PUBLIC
END:VEVENT
END:VCALENDAR
