BEGIN:VCALENDAR
PRODID:-//kirchenweb.ch gmbh//veranstaltungsausgabe v2.0//DE
VERSION:2.0
METHOD:PUBLISH
BEGIN:VEVENT
DTSTART:20170322T133000Z
DTEND:20170322T150000Z
LOCATION:Altersheim Rinau\, Buchenweg 2\, 4303 Kaiseraugst
TRANSP:OPAQUE
SEQUENCE:0
UID:5827-veranstaltung@ref-rheinfelden.ch
DTSTAMP:20170208T151323Z
DESCRIPTION:Kontakt: Pfr. Andreas Fischer\n\nWeitere Infos:
  https://www.ref-rheinfelden.ch/veranstaltung/5827
SUMMARY:Ökumenische Frühlingsfeier in der Rinau
PRIORITY:5
X-MICROSOFT-CDO-IMPORTANCE:1
CLASS:PUBLIC
END:VEVENT
END:VCALENDAR
