BEGIN:VCALENDAR
PRODID:-//kirchenweb.ch gmbh//veranstaltungsausgabe v2.0//DE
VERSION:2.0
METHOD:PUBLISH
BEGIN:VEVENT
DTSTART:20171122T140000Z
DTEND:20171122T150000Z
LOCATION:Kapelle Gesundheitszentrum Rheinfelden\, Riburgerstrasse\, 4310
  Rheinfelden
TRANSP:OPAQUE
SEQUENCE:0
UID:5807-veranstaltung@ref-rheinfelden.ch
DTSTAMP:20170717T071731Z
DESCRIPTION:Gottesdienst für Patientinnen und Patienten sowie für
  Besucherinnen und Besucher in der Kapelle des Spitals Rheinfelden.\n
 \nKontakt: Cand. theol. Franziska Kuhn\n\nWeitere Infos:
  https://www.ref-rheinfelden.ch/veranstaltung/5807
SUMMARY:Spitalgottesdienst
PRIORITY:5
X-MICROSOFT-CDO-IMPORTANCE:1
CLASS:PUBLIC
END:VEVENT
END:VCALENDAR
