BEGIN:VCALENDAR
PRODID:-//kirchenweb.ch gmbh//veranstaltungsausgabe v2.0//DE
VERSION:2.0
METHOD:PUBLISH
BEGIN:VEVENT
DTSTART:20170315T140000Z
DTEND:20170315T150000Z
LOCATION:Kapelle Gesundheitszentrum Rheinfelden\, Riburgerstrasse\, 4310
  Rheinfelden
TRANSP:OPAQUE
SEQUENCE:0
UID:5805-veranstaltung@ref-rheinfelden.ch
DTSTAMP:20170306T120536Z
DESCRIPTION:Gottesdienst für Patientinnen und Patienten sowie für
  Besucherinnen und Besucher in der Kapelle des Spitals Rheinfelden.\n
 \nKontakt: Pfrn. Beatrice Gyssler\n\nWeitere Infos:
  https://www.ref-rheinfelden.ch/veranstaltung/5805
SUMMARY:Spitalgottesdienst
PRIORITY:5
X-MICROSOFT-CDO-IMPORTANCE:1
CLASS:PUBLIC
END:VEVENT
END:VCALENDAR
