BEGIN:VCALENDAR
PRODID:-//kirchenweb.ch gmbh//veranstaltungsausgabe v2.0//DE
VERSION:2.0
METHOD:PUBLISH
BEGIN:VEVENT
DTSTART:20171213T090000Z
DTEND:20171213T100000Z
LOCATION:Salmenpark\, Baslerstrasse 2\, 4310 Rheinfelden
TRANSP:OPAQUE
SEQUENCE:0
UID:5800-veranstaltung@ref-rheinfelden.ch
DTSTAMP:20170621T113518Z
DESCRIPTION:Kontakt: Cand. theol. Franziska Kuhn\n\nWeitere Infos:
  https://www.ref-rheinfelden.ch/veranstaltung/5800
SUMMARY:Gottesdienst im Salmenpark
PRIORITY:5
X-MICROSOFT-CDO-IMPORTANCE:1
CLASS:PUBLIC
END:VEVENT
END:VCALENDAR
