BEGIN:VCALENDAR
PRODID:-//kirchenweb.ch gmbh//veranstaltungsausgabe v2.0//DE
VERSION:2.0
METHOD:PUBLISH
BEGIN:VEVENT
DTSTART:20170308T090000Z
DTEND:20170308T100000Z
LOCATION:Salmenpark\, Baslerstrasse 2\, 4310 Rheinfelden
TRANSP:OPAQUE
SEQUENCE:0
UID:5789-veranstaltung@ref-rheinfelden.ch
DTSTAMP:20170221T111527Z
DESCRIPTION:Kontakt: Pfr. Leszek Ruszkowski\n\nWeitere Infos:
  https://www.ref-rheinfelden.ch/veranstaltung/5789
SUMMARY:Gottesdienst im Salmenpark\, Mitwirkung der Kantorei
PRIORITY:5
X-MICROSOFT-CDO-IMPORTANCE:1
CLASS:PUBLIC
END:VEVENT
END:VCALENDAR
