BEGIN:VCALENDAR
PRODID:-//kirchenweb.ch gmbh//veranstaltungsausgabe v2.0//DE
VERSION:2.0
METHOD:PUBLISH
BEGIN:VEVENT
DTSTART:20171224T153000Z
DTEND:20171224T163000Z
LOCATION:Evang.-Ref. Kirche Rheinfelden\, Zürcherstrasse 1\, 4310
  Rheinfelden
TRANSP:OPAQUE
SEQUENCE:0
UID:5785-veranstaltung@ref-rheinfelden.ch
DTSTAMP:20171114T102645Z
DESCRIPTION:Bitte eine Laterne mitbringen\, um das Licht von Bethlehem
  nach Hause tragen zu können!\n\nKontakt: Pfrn. Christine Ruszkowski\n
 \nWeitere Infos: https://www.ref-rheinfelden.ch/veranstaltung/5785
SUMMARY:LichterTragen: Einstimmung zum Heiligabend
PRIORITY:5
X-MICROSOFT-CDO-IMPORTANCE:1
CLASS:PUBLIC
END:VEVENT
END:VCALENDAR
