BEGIN:VCALENDAR
PRODID:-//kirchenweb.ch gmbh//veranstaltungsausgabe v2.0//DE
VERSION:2.0
METHOD:PUBLISH
BEGIN:VEVENT
DTSTART:20171217T160000Z
DTEND:20171217T170000Z
LOCATION:Evang.-Ref. Kirche Rheinfelden\, Zürcherstrasse 1\, 4310
  Rheinfelden
TRANSP:OPAQUE
SEQUENCE:0
UID:5782-veranstaltung@ref-rheinfelden.ch
DTSTAMP:20171216T162731Z
DESCRIPTION:Familiengottesdienst mit dem Krippenspiel "De Himmel chunnt uf
  d'Erde"\, Leitung Katechetin Susanne Ammann\, Susanne Hirte\, Christine
  Marti\, Eliane Meyer.\n\nKontakt: Pfr. Leszek Ruszkowski\n\nWeitere
  Infos: https://www.ref-rheinfelden.ch/veranstaltung/5782
SUMMARY:Familien-Gottesdienst zum 3. Advent mit Krippenspiel
PRIORITY:5
X-MICROSOFT-CDO-IMPORTANCE:1
CLASS:PUBLIC
END:VEVENT
END:VCALENDAR
