BEGIN:VCALENDAR
PRODID:-//kirchenweb.ch gmbh//veranstaltungsausgabe v2.0//DE
VERSION:2.0
METHOD:PUBLISH
BEGIN:VEVENT
DTSTART:20171029T160000Z
DTEND:20171029T170000Z
LOCATION:Friedhof Kaiseraugst\, \, 4303 Kaiseraugst
TRANSP:OPAQUE
SEQUENCE:0
UID:5772-veranstaltung@ref-rheinfelden.ch
DTSTAMP:20180815T070533Z
DESCRIPTION:Friedhof Kaiseraugst\, Pfarreileiter Stephan Kochinky\, Pfr.
  Peter Grüter\, Cand. theol. Franziska Kuhn\n\nKontakt: Cand. theol.
  Franziska Kuhn\n\nWeitere Infos:
  https://www.ref-rheinfelden.ch/veranstaltung/5772
SUMMARY:Ökumenische Totengedenkfeier auf dem Friedhof
PRIORITY:5
X-MICROSOFT-CDO-IMPORTANCE:1
CLASS:PUBLIC
END:VEVENT
END:VCALENDAR
