BEGIN:VCALENDAR
PRODID:-//kirchenweb.ch gmbh//veranstaltungsausgabe v2.0//DE
VERSION:2.0
METHOD:PUBLISH
BEGIN:VEVENT
DTSTART:20170416T080000Z
DTEND:20170416T090000Z
LOCATION:Evang.-Ref. Kirche Rheinfelden\, Zürcherstrasse 1\, 4310
  Rheinfelden
TRANSP:OPAQUE
SEQUENCE:0
UID:5768-veranstaltung@ref-rheinfelden.ch
DTSTAMP:20170414T212528Z
DESCRIPTION:Ein Festgottesdienst mit Abendmahl\, Orgel: Nina Haugen\,
  Trompete Ed Cervenka\n\nKontakt: Pfr. Leszek Ruszkowski\n\nWeitere Infos:
  https://www.ref-rheinfelden.ch/veranstaltung/5768
SUMMARY:Ostergottesdienst für die Gesamtgemeinde\, Abendmahl
PRIORITY:5
X-MICROSOFT-CDO-IMPORTANCE:1
CLASS:PUBLIC
END:VEVENT
END:VCALENDAR
