BEGIN:VCALENDAR
PRODID:-//kirchenweb.ch gmbh//veranstaltungsausgabe v2.0//DE
VERSION:2.0
METHOD:PUBLISH
BEGIN:VEVENT
DTSTART:20171224T210000Z
DTEND:20171224T220000Z
LOCATION:Evang.-Ref. Kirche Rheinfelden\, Zürcherstrasse 1\, 4310
  Rheinfelden
TRANSP:OPAQUE
SEQUENCE:0
UID:5766-veranstaltung@ref-rheinfelden.ch
DTSTAMP:20171107T152308Z
DESCRIPTION:Die Kantorei singt "In dulci julbilo" von Dietrich Buxtehude\,
  sowie das Lied "Lobt Gott\, ihr Christen\, alle gleich" in einem Satz von
  Herman Stern.\nInstrumentalisten: Ursula Schnepp\, Violine   Verena
  Michel\, Blockflöte    Aline Schnepp\, Violoncello    Nina Haugen\,
  Orgel\nGespielt wird Musik von Giuseppe Sammartini\n\nKontakt: Pfr.
  Leszek Ruszkowski\n\nWeitere Infos:
  https://www.ref-rheinfelden.ch/veranstaltung/5766
SUMMARY:Christnacht-Gottesdienst
PRIORITY:5
X-MICROSOFT-CDO-IMPORTANCE:1
CLASS:PUBLIC
END:VEVENT
END:VCALENDAR
