BEGIN:VCALENDAR
PRODID:-//kirchenweb.ch gmbh//veranstaltungsausgabe v2.0//DE
VERSION:2.0
METHOD:PUBLISH
BEGIN:VEVENT
DTSTART:20170215T140000Z
DTEND:20170215T144500Z
LOCATION:Kapelle Gesundheitszentrum Rheinfelden\, Riburgerstrasse\, 4310
  Rheinfelden
TRANSP:OPAQUE
SEQUENCE:0
UID:5760-veranstaltung@ref-rheinfelden.ch
DTSTAMP:20170215T103509Z
DESCRIPTION:Gottesdienst für Patientinnen und Patienten sowie für
  Besucherinnen und Besucher in der Kapelle des Spitals Rheinfelden.\n
 \nKontakt: Pfr. Andreas Fischer\n\nWeitere Infos:
  https://www.ref-rheinfelden.ch/veranstaltung/5760
SUMMARY:Spitalgottesdienst
PRIORITY:5
X-MICROSOFT-CDO-IMPORTANCE:1
CLASS:PUBLIC
END:VEVENT
END:VCALENDAR
