BEGIN:VCALENDAR
PRODID:-//kirchenweb.ch gmbh//veranstaltungsausgabe v2.0//DE
VERSION:2.0
METHOD:PUBLISH
BEGIN:VEVENT
DTSTART:20170326T080000Z
DTEND:20170326T100000Z
LOCATION:Evang.-Ref. Kirche Rheinfelden\, Zürcherstrasse 1\, 4310
  Rheinfelden
TRANSP:OPAQUE
SEQUENCE:0
UID:5728-veranstaltung@ref-rheinfelden.ch
DTSTAMP:20170327T101354Z
DESCRIPTION:Die fünfzehn Konfirmandinnen und Konfirmanden aus Magden
  erzählen von ihren Träumen. Als Predigttext hören wir Jakobs Traum von
  der Himmelsleiter (Gen 28\, 11-19). \nDer Segen\, den Gott in diesem
  Traum spricht\, möge die Jugendlichen im Übergang ins Erwachsenenalter
  begleiten: «Ich bin mit dir und behüte dich\, wohin du auch gehst».
 \nZum Gottesdienst\, den unsere Kirchenmusikerin Nina Haugen musikalisch
  gemeinsam mit einer aus ehemaligen Konfirmanden formierten Band
  gestaltet\, lädt im Namen aller Beteiligten herzlich ein: \n\nPfr.
  Andreas Fischer\n\nKontakt: Pfr. Andreas Fischer\n\nWeitere Infos:
  https://www.ref-rheinfelden.ch/veranstaltung/5728
SUMMARY:Konfirmationsgottesdienst
PRIORITY:5
X-MICROSOFT-CDO-IMPORTANCE:1
CLASS:PUBLIC
END:VEVENT
END:VCALENDAR
