BEGIN:VCALENDAR
PRODID:-//kirchenweb.ch gmbh//veranstaltungsausgabe v2.0//DE
VERSION:2.0
METHOD:PUBLISH
BEGIN:VEVENT
DTSTART:20170430T080000Z
DTEND:20170430T090000Z
LOCATION:Kirchgemeindehaus Kaiseraugst\, Mühlegasse 13\, 4303 Kaiseraugst
TRANSP:OPAQUE
SEQUENCE:0
UID:5718-veranstaltung@ref-rheinfelden.ch
DTSTAMP:20170428T123414Z
DESCRIPTION:Den Fluss überqueren: Gottesdienst mit Gospelchor zur
  Eröffnung des neuen Konfjahrs\n\nDer Gospelchor unter der Leitung von
  Christoph B. Herrmann singt in diesem Gottesdienst\, in dem unsere neuen
  Konfirmandinnen und Konfirmanden begrüsst werden\, Lieder rund ums
  Wasser. Ein wiederkehrendes Thema in den Songs ist die Überquerung des
  Jordan: Das Volk Israel auf dem Weg ins Gelobte Land muss diesen Fluss
  durchschreiten (Josua 3). \n\nDie Konfirmation ist ein sogenannter Rite
  de passage\, ein Übergangsritus. Das Konfjahr begleitet die Jugendlichen
  auf ihrem Weg ins Erwachsenenalter. Mit diesem Gottesdienst treten sie
  ein in dieses Jahr\, begleitet und gesegnet von den Gesängen des
  Gospelchors und der Gemeinde.\n\nHerzliche Einladung!\n\nAndreas Fischer
 \n\n\n\nKontakt: Pfr. Andreas Fischer\n\nWeitere Infos:
  https://www.ref-rheinfelden.ch/veranstaltung/5718
SUMMARY:Gottesdienst mit Begrüssung der Konfirmanden
PRIORITY:5
X-MICROSOFT-CDO-IMPORTANCE:1
CLASS:PUBLIC
END:VEVENT
END:VCALENDAR
