BEGIN:VCALENDAR
PRODID:-//kirchenweb.ch gmbh//veranstaltungsausgabe v2.0//DE
VERSION:2.0
METHOD:PUBLISH
BEGIN:VEVENT
DTSTART:20170305T090000Z
DTEND:20170305T100000Z
LOCATION:Kirchgemeindehaus Kaiseraugst\, Mühlegasse 13\, 4303 Kaiseraugst
TRANSP:OPAQUE
SEQUENCE:0
UID:5715-veranstaltung@ref-rheinfelden.ch
DTSTAMP:20170303T200035Z
DESCRIPTION:Atmende Buchstaben\nEröffnung einer Predigtreihe zum
  Glaubensbekenntnis\n\nDie zehn Gebote\, sagt Martin Luther\, seien „in
  aller Menschen Herzen geschrieben“. Das spezifisch Christliche hingegen
  sei der Glaube\, wie er im Apostolischen Bekenntnis dargelegt wird.\n\nIn
  einer losen Predigtreihe im Reformationsjahr gehe ich den Artikeln dieses
  Glaubensbekenntnisses nach – mit Bezug auf Luther und auch auf Zwingli
  und den zeitgenössischen Benediktinermönch und spirituellen Lehrer
  David Steindl-Rast.\n\nDen Anfang macht der Glaube an „Gott\, den
  Vater\, den Allmächtigen\, den Schöpfer des Himmels und der Erde“.
  Dessen hebräischer Name IHWH bestehe\, wie Zwingli mit einer
  grossartigen Formulierung sagt\, aus „atmenden Buchstaben“. Herzliche
  Einladung zum Gottesdienst am Sonntag\, 5. März\, 10 Uhr im
  Kirchgemeindehaus Kaiseraugst!\n\nAndreas Fischer\n\nWeitere Daten: 14.4.
  (Karfreitag) / 21.5. / 18.6. / 10.12\n\n\nKontakt: Pfr. Andreas Fischer\n
 \nWeitere Infos: https://www.ref-rheinfelden.ch/veranstaltung/5715
SUMMARY:Gottesdienst zur Eröffnung der Fastenzeit
PRIORITY:5
X-MICROSOFT-CDO-IMPORTANCE:1
CLASS:PUBLIC
END:VEVENT
END:VCALENDAR
