BEGIN:VCALENDAR
PRODID:-//kirchenweb.ch gmbh//veranstaltungsausgabe v2.0//DE
VERSION:2.0
METHOD:PUBLISH
BEGIN:VEVENT
DTSTART:20171117T181500Z
DTEND:20171117T194500Z
LOCATION:Kirchgemeindehaus Kaiseraugst\, Mühlegasse 13\, 4303 
  Kaiseraugst
TRANSP:OPAQUE
SEQUENCE:0
UID:5712-veranstaltung@ref-rheinfelden.ch
DTSTAMP:20161212T205843Z
DESCRIPTION:An diesem Abend singen wir vor allem "Harmonic Temple Songs"\,
  vierstimmigen Gesänge (Chants)\, denen kurze Texte (Mantren) aus
  verschiedenen spirituellen Traditionen zu Grunde liegen. Gleich den
  Taizé-Liedern sind sie leicht zu lernen. Beim wiederholten Singen
  entsteht der Eindruck\, man befinde sich in einem heiligen Raum. Der
  Engländer Nickomo Clarke\, der viele dieser Gesänge entwickelt hat\,
  schreibt: „Ich habe Gesang als grosse Heilung\, tiefe Meditation und
  den für mich besten Weg erfahren\, mich dem Grossen Geheimnis im Gebet
  zuzuwenden.“\n\nHERZLICH LADEN EIN:\nJUTTA WURM UND PFR. ANDREAS
  FISCHER\n\n\nKontakt: Andreas Fischer\nJutta Wurm-Fischer\n\nWeitere
  Infos: https://www.ref-rheinfelden.ch/veranstaltung/5712
SUMMARY:Mantren\, Chants\, Kanons
PRIORITY:5
X-MICROSOFT-CDO-IMPORTANCE:1
CLASS:PUBLIC
END:VEVENT
END:VCALENDAR
