BEGIN:VCALENDAR
PRODID:-//kirchenweb.ch gmbh//veranstaltungsausgabe v2.0//DE
VERSION:2.0
METHOD:PUBLISH
BEGIN:VEVENT
DTSTART:20170210T181500Z
DTEND:20170210T200000Z
LOCATION:Kirchgemeindehaus Kaiseraugst\, Mühlegasse 13\, 4303 Kaiseraugst
TRANSP:OPAQUE
SEQUENCE:0
UID:5708-veranstaltung@ref-rheinfelden.ch
DTSTAMP:20160609T084105Z
DESCRIPTION:Die Tänze des Universellen Friedens sind vom amerikanischen
  Sufi-Lehrer Samuel L. Lewis (1896-1971) entwickelt worden. Die
  verschiedenen spirituellen Traditionen – ausser dem Sufismus auch
  Kabbala\, Zen-Buddhismus\, christliche Mystik u.a. –\, mit denen sich
  Lewis befasste\, sind in die Tänze eingeflossen. Die Tänze des
  Universellen Friedens sind getragen von der Überzeugung\, dass „die
  Wahrheit im Herzen aller Religionen dieselbe Wahrheit“ sei.\n\nAn
  diesem Abend werden wir auch Worte Jesu in der Muttersprache Jesu\,
  Aramäisch\, singen. Für den Anlass braucht es keine besonderen
  Voraussetzungen – die Tänze sind einfach!\n\nLeitung: Jutta
  Wurm-Fischer\n\n\nKontakt: Pfr. Andreas Fischer\n\nWeitere Infos:
  https://www.ref-rheinfelden.ch/veranstaltung/5708
SUMMARY:Tänze des Universellen Friedens
PRIORITY:5
X-MICROSOFT-CDO-IMPORTANCE:1
CLASS:PUBLIC
END:VEVENT
END:VCALENDAR
