BEGIN:VCALENDAR
PRODID:-//kirchenweb.ch gmbh//veranstaltungsausgabe v2.0//DE
VERSION:2.0
METHOD:PUBLISH
BEGIN:VEVENT
DTSTART:20171222T181500Z
DTEND:20171222T191500Z
LOCATION:Kirchgemeindehaus Kaiseraugst\, Mühlegasse 13\, 4303 Kaiseraugst
TRANSP:OPAQUE
SEQUENCE:0
UID:5706-veranstaltung@ref-rheinfelden.ch
DTSTAMP:20171120T232656Z
DESCRIPTION:»Der Glaube\, das Vertrauen auf Gott\, ist etwas ganz
  Einfaches... Er ist wie ein Schritt\, den wir tausendfach von neuem tun\,
  ein Leben lang\, bis zum letzten Atemzug.« \n(Frère Roger Schutz\,
  Pfarrer\, Gründer und langjähriger Prior von Taizé)\n\nIn diesem Geist
  der Einfachheit feiern wir monatlich einmal Gottesdienst – mit
  repetitiven Gesängen\, Gebeten\, Abendmahl und Stille. \n\nDaten 2018: 
  26. Januar\, 16. Februar\, 16. März\, 27. April\, 18. Mai\, 15. Juni\,
  27. Juli\, 24. August\, 21. September\, 12. Oktober\, 23. November\, 21.
  Dezember\n\nMit Pfr. Andreas Fischer\, Jutta Wurm und Team\n\n\nKontakt:
  Pfr. Andreas Fischer\n\nWeitere Infos:
  https://www.ref-rheinfelden.ch/veranstaltung/5706
SUMMARY:Taizé-Feier
PRIORITY:5
X-MICROSOFT-CDO-IMPORTANCE:1
CLASS:PUBLIC
END:VEVENT
END:VCALENDAR
