BEGIN:VCALENDAR
PRODID:-//kirchenweb.ch gmbh//veranstaltungsausgabe v2.0//DE
VERSION:2.0
METHOD:PUBLISH
BEGIN:VEVENT
DTSTART:20170428T171500Z
DTEND:20170428T181500Z
LOCATION:Kirchgemeindehaus Kaiseraugst\, Mühlegasse 13\, 4303 Kaiseraugst
TRANSP:OPAQUE
SEQUENCE:0
UID:5698-veranstaltung@ref-rheinfelden.ch
DTSTAMP:20160920T085331Z
DESCRIPTION:»Der Glaube\, das Vertrauen auf Gott\, ist etwas ganz
  Einfaches... Er ist wie ein Schritt\, den wir tausendfach von neuem tun\,
  ein Leben lang\, bis zum letzten Atemzug.« \n(Frère Roger Schutz\,
  Pfarrer\, Gründer und langjähriger Prior von Taizé)\n\nIn diesem Geist
  der Einfachheit feiern wir monatlich einmal Gottesdienst – mit
  repetitiven Gesängen\, Gebeten\, Abendmahl und Stille. \n\nDaten 2017: 
  27. Januar\, 24. Februar\, 17. März\, 28. April\, 19. Mai\, 9. Juni\,
  28. Juli\, 18. August\, 15. September\, 24. November\, 22. Dezember\n
 \nMit Pfr. Andreas Fischer\, Jutta Wurm und Team\n\n\nKontakt: Pfr.
  Andreas Fischer\n\nWeitere Infos:
  https://www.ref-rheinfelden.ch/veranstaltung/5698
SUMMARY:Taizé-Feier
PRIORITY:5
X-MICROSOFT-CDO-IMPORTANCE:1
CLASS:PUBLIC
END:VEVENT
END:VCALENDAR
