BEGIN:VCALENDAR
PRODID:-//kirchenweb.ch gmbh//veranstaltungsausgabe v2.0//DE
VERSION:2.0
METHOD:PUBLISH
BEGIN:VEVENT
DTSTART:20170430T080000Z
DTEND:20170430T090000Z
LOCATION:Evang.-Ref. Kirche Rheinfelden\, Zürcherstrasse 1\, 4310
  Rheinfelden
TRANSP:OPAQUE
SEQUENCE:0
UID:5684-veranstaltung@ref-rheinfelden.ch
DTSTAMP:20170428T123231Z
DESCRIPTION:Mitwirkung Vanessa Bippus\, Gesang\, Jonas Ammann\, Saxofon\,
  Dylan Lyons\, Bassgitarre\, Lucien Kelbert\, Schlagzeug\, Nina Haugen\,
  Klavier und Orgel\n\nKontakt: Pfr. Leszek Ruszkowski\n\nWeitere Infos:
  https://www.ref-rheinfelden.ch/veranstaltung/5684
SUMMARY:Gottesdienst mit Konfirmandenbegrüssung
PRIORITY:5
X-MICROSOFT-CDO-IMPORTANCE:1
CLASS:PUBLIC
END:VEVENT
END:VCALENDAR
