BEGIN:VCALENDAR
PRODID:-//kirchenweb.ch gmbh//veranstaltungsausgabe v2.0//DE
VERSION:2.0
METHOD:PUBLISH
BEGIN:VEVENT
DTSTART:20171231T170000Z
DTEND:20171231T180000Z
LOCATION:Kirchgemeindehaus Gässli\, Juchstrasse 27\, 4312 Magden
TRANSP:OPAQUE
SEQUENCE:0
UID:5680-veranstaltung@ref-rheinfelden.ch
DTSTAMP:20171107T102955Z
DESCRIPTION:Mitwirkung von Christina Lang\, Sopran und Susanne Müller
  Senn\, Orgel\n\nKontakt: Pfr. Peter Senn\n\nWeitere Infos:
  https://www.ref-rheinfelden.ch/veranstaltung/5680
SUMMARY:Silvestergottesdienst
PRIORITY:5
X-MICROSOFT-CDO-IMPORTANCE:1
CLASS:PUBLIC
END:VEVENT
END:VCALENDAR
