BEGIN:VCALENDAR
PRODID:-//kirchenweb.ch gmbh//veranstaltungsausgabe v2.0//DE
VERSION:2.0
METHOD:PUBLISH
BEGIN:VEVENT
DTSTART:20171225T090000Z
DTEND:20171225T100000Z
LOCATION:Kirchgemeindehaus Gässli\, Juchstrasse 27\, 4312 Magden
TRANSP:OPAQUE
SEQUENCE:0
UID:5679-veranstaltung@ref-rheinfelden.ch
DTSTAMP:20171108T104440Z
DESCRIPTION:Mit Abendmahl\nAnspiel der KonfirmandInnen\nMusik zur
  Weihnachtszeit\nUrsula Schnepp\, Violine\nAline Schnepp\, Violoncello
 \nPhilippe Schnepp\, Kontrabass\nNina Haugen\, Orgel\n\nKontakt: Pfr.
  Peter Senn\n\nWeitere Infos:
  https://www.ref-rheinfelden.ch/veranstaltung/5679
SUMMARY:Weihnachtsgottesdienst mit Abendmahl
PRIORITY:5
X-MICROSOFT-CDO-IMPORTANCE:1
CLASS:PUBLIC
END:VEVENT
END:VCALENDAR
