BEGIN:VCALENDAR
PRODID:-//kirchenweb.ch gmbh//veranstaltungsausgabe v2.0//DE
VERSION:2.0
METHOD:PUBLISH
BEGIN:VEVENT
DTSTART:20171224T163000Z
DTEND:20171224T173000Z
LOCATION:Stiftkirche Olsberg\, Chloster\, 4305 Olsberg
TRANSP:OPAQUE
SEQUENCE:0
UID:5678-veranstaltung@ref-rheinfelden.ch
DTSTAMP:20171108T104551Z
DESCRIPTION:Pfr. Peter Senn\, ökumenisches Team\nMitwirkung von Edward
  Cervenka\, Trompete\nNina Haugen\, Orgel\n\nKontakt: Pfr. Peter Senn\n
 \nWeitere Infos: https://www.ref-rheinfelden.ch/veranstaltung/5678
SUMMARY:Oekumenischer Gottesdienst
PRIORITY:5
X-MICROSOFT-CDO-IMPORTANCE:1
CLASS:PUBLIC
END:VEVENT
END:VCALENDAR
